BEGIN:VCALENDAR
VERSION:2.0
PRODID:icalendar-ruby
CALSCALE:GREGORIAN
BEGIN:VEVENT
DTSTAMP:20210121T015216Z
UID:bcb2075f-1194-4da9-9c0d-507cb0bb31a9
DTSTART;VALUE=DATE:20201107
DESCRIPTION:Property ID# 492699\, Locatoin: On Site\, Time: 1:00PM
SUMMARY:Auction for 
END:VEVENT
END:VCALENDAR
