BEGIN:VCALENDAR
VERSION:2.0
PRODID:icalendar-ruby
CALSCALE:GREGORIAN
BEGIN:VEVENT
DTSTAMP:20210121T015940Z
UID:0062c67d-5366-41f1-bdfb-36eeb777dd27
DTSTART;VALUE=DATE:20201118
DESCRIPTION:Property ID# 493326\, Locatoin: 247 Cameron Road\, Tauranga (un
 less sold prior)\, Time: 1:00PM
SUMMARY:Auction for 
END:VEVENT
END:VCALENDAR
