BEGIN:VCALENDAR
VERSION:2.0
PRODID:icalendar-ruby
CALSCALE:GREGORIAN
BEGIN:VEVENT
DTSTAMP:20210119T145706Z
UID:7f393aa3-aa6c-4ced-a111-29f495e39e1d
DTSTART;VALUE=DATE:20201126
DESCRIPTION:Property ID# 493329\, Locatoin: To be held on-site\, Time: 1:00
 PM
SUMMARY:Auction for 175 Parkinson Road
END:VEVENT
END:VCALENDAR
