BEGIN:VCALENDAR
VERSION:2.0
PRODID:icalendar-ruby
CALSCALE:GREGORIAN
BEGIN:VEVENT
DTSTAMP:20210119T145707Z
UID:7a237067-75d0-4589-82e3-a72502f07a5d
DTSTART;VALUE=DATE:20201204
DESCRIPTION:Property ID# 493378\, Time: 4:00PM
SUMMARY:Auction for 63 Awaiti South Road
END:VEVENT
END:VCALENDAR
