BEGIN:VCALENDAR
VERSION:2.0
PRODID:icalendar-ruby
CALSCALE:GREGORIAN
BEGIN:VEVENT
DTSTAMP:20210121T015524Z
UID:e7c515a5-3397-40d4-8d36-22c3a631a0c8
DTSTART;VALUE=DATE:20201209
DESCRIPTION:Property ID# 494399\, Locatoin: 247 Cameron Road\, Tauranga\, T
 ime: 1:00PM
SUMMARY:Auction for 
END:VEVENT
END:VCALENDAR
