BEGIN:VCALENDAR
VERSION:2.0
PRODID:icalendar-ruby
CALSCALE:GREGORIAN
BEGIN:VEVENT
DTSTAMP:20210119T145731Z
UID:cf6ed5f6-d6e6-459e-9656-1ac90ff90bba
DTSTART;VALUE=DATE:20201210
DESCRIPTION:Property ID# 494798\, Locatoin: 247 Cameron Road\, Tauranga\, T
 ime: 1:00PM
SUMMARY:Auction for 
END:VEVENT
END:VCALENDAR
