BEGIN:VCALENDAR
VERSION:2.0
PRODID:icalendar-ruby
CALSCALE:GREGORIAN
BEGIN:VEVENT
DTSTAMP:20210119T145807Z
UID:b0d2c4dc-9ad7-448b-8fe8-b7ff50be4f8a
DTSTART;VALUE=DATE:20201203
DESCRIPTION:Property ID# 495062\, Locatoin: Bayleys Auction Rooms \, Time: 
 4:00PM
SUMMARY:Auction for 144 Campbell Road
END:VEVENT
END:VCALENDAR
