BEGIN:VCALENDAR
VERSION:2.0
PRODID:icalendar-ruby
CALSCALE:GREGORIAN
BEGIN:VEVENT
DTSTAMP:20210119T145758Z
UID:6f79a6f4-297c-4e55-8423-13e73781b680
DTSTART;VALUE=DATE:20201205
DESCRIPTION:Property ID# 495444\, Time: 11:00AM
SUMMARY:Auction for 
END:VEVENT
END:VCALENDAR
