BEGIN:VCALENDAR
VERSION:2.0
PRODID:icalendar-ruby
CALSCALE:GREGORIAN
BEGIN:VEVENT
DTSTAMP:20210119T145634Z
UID:811645f0-3a64-48cc-a48e-114b0ccdf9c7
DTSTART;VALUE=DATE:20201216
DESCRIPTION:Property ID# 496060\, Locatoin: 247 Cameron Road\, Tauranga\, T
 ime: 12:00PM
SUMMARY:Auction for 
END:VEVENT
END:VCALENDAR
