BEGIN:VCALENDAR
VERSION:2.0
PRODID:icalendar-ruby
CALSCALE:GREGORIAN
BEGIN:VEVENT
DTSTAMP:20210119T145757Z
UID:64bdf947-499f-4a33-a6d3-3ef446f8da75
DTSTART;VALUE=DATE:20201212
DESCRIPTION:Property ID# 496170\, Time: 12:00PM
SUMMARY:Auction for 23 Salonika Street
END:VEVENT
END:VCALENDAR
