BEGIN:VCALENDAR
VERSION:2.0
PRODID:icalendar-ruby
CALSCALE:GREGORIAN
BEGIN:VEVENT
DTSTAMP:20210119T145755Z
UID:0dff1936-a7c0-4eaf-b27b-fd6b142960ea
DTSTART;VALUE=DATE:20201212
DESCRIPTION:Property ID# 496325\, Time: 11:00AM
SUMMARY:Auction for 53 Victoria Avenue
END:VEVENT
END:VCALENDAR
