BEGIN:VCALENDAR
VERSION:2.0
PRODID:icalendar-ruby
CALSCALE:GREGORIAN
BEGIN:VEVENT
DTSTAMP:20210119T145646Z
UID:5e1ec5e5-f87a-43f1-b085-d027fd7c72ab
DTSTART;VALUE=DATE:20201215
DESCRIPTION:Property ID# 496497\, Time: 2:00PM
SUMMARY:Auction for 
END:VEVENT
END:VCALENDAR
