BEGIN:VCALENDAR
VERSION:2.0
PRODID:icalendar-ruby
CALSCALE:GREGORIAN
BEGIN:VEVENT
DTSTAMP:20210121T015210Z
UID:c77733ac-7f52-48e9-bd6f-cfe11cce1792
DTSTART;VALUE=DATE:20210124
DESCRIPTION:Property ID# 497155\, Locatoin: On Site\, Time: 1:30PM
SUMMARY:Auction for 377 River Road
END:VEVENT
END:VCALENDAR
