BEGIN:VCALENDAR
VERSION:2.0
PRODID:icalendar-ruby
CALSCALE:GREGORIAN
BEGIN:VEVENT
DTSTAMP:20210119T145805Z
UID:ff016c56-b79b-4a40-95d7-525f4b2a8928
DTSTART;VALUE=DATE:20210218
DESCRIPTION:Property ID# 497489\, Time: 4:00PM
SUMMARY:Auction for 215 Ohiwa Beach Road
END:VEVENT
END:VCALENDAR
