BEGIN:VCALENDAR
VERSION:2.0
PRODID:icalendar-ruby
CALSCALE:GREGORIAN
BEGIN:VEVENT
DTSTAMP:20210121T015510Z
UID:2366420b-6c1c-41e8-9a4f-93ed4d97b4c1
DTSTART;VALUE=DATE:20210218
DESCRIPTION:Property ID# 497938\, Time: 1:00PM
SUMMARY:Auction for 414F Dalbeth Road
END:VEVENT
END:VCALENDAR
