BEGIN:VCALENDAR
VERSION:2.0
PRODID:icalendar-ruby
CALSCALE:GREGORIAN
BEGIN:VEVENT
DTSTAMP:20210121T015237Z
UID:6b7d288f-34ac-4d2d-9a39-9b7af6dd251a
DTSTART;VALUE=DATE:20201222
DESCRIPTION:Property ID# 497946\, Locatoin: Harcourts Auction Room\, 1 Thir
 d Ave\, Tauranga (unless sold prior)\, Time: 1:00PM
SUMMARY:Auction for 
END:VEVENT
END:VCALENDAR
