BEGIN:VCALENDAR
VERSION:2.0
PRODID:icalendar-ruby
CALSCALE:GREGORIAN
BEGIN:VEVENT
DTSTAMP:20210121T015200Z
UID:01d24ea4-a6e5-4458-81f1-735118a96c67
DTSTART;VALUE=DATE:20210207
DESCRIPTION:Property ID# 498637\, Time: 12:00PM
SUMMARY:Auction for 138 Ocean Road
END:VEVENT
END:VCALENDAR
