BEGIN:VCALENDAR
VERSION:2.0
PRODID:icalendar-ruby
CALSCALE:GREGORIAN
BEGIN:VEVENT
DTSTAMP:20210121T015230Z
UID:0cbac086-27a3-4482-8c21-391d5c0d1df6
DTSTART;VALUE=DATE:20210130
DESCRIPTION:Property ID# 498660\, Locatoin: Onsite\, Time: 11:00AM
SUMMARY:Auction for 2A Tuati Street
END:VEVENT
END:VCALENDAR
