BEGIN:VCALENDAR
VERSION:2.0
PRODID:icalendar-ruby
CALSCALE:GREGORIAN
BEGIN:VEVENT
DTSTAMP:20210119T145754Z
UID:64db082a-a736-4002-baca-ab92a046bbf8
DTSTART;VALUE=DATE:20210127
DESCRIPTION:Property ID# 498868\, Time: 5:30PM
SUMMARY:Auction for 225 Pohutukawa Avenue
END:VEVENT
END:VCALENDAR
