BEGIN:VCALENDAR
VERSION:2.0
PRODID:icalendar-ruby
CALSCALE:GREGORIAN
BEGIN:VEVENT
DTSTAMP:20210119T145804Z
UID:a193a435-0394-43e4-a2f1-c089a55b7724
DTSTART;VALUE=DATE:20210225
DESCRIPTION:Property ID# 499036\, Time: 12:00PM
SUMMARY:Auction for 2/85 Forkert Road
END:VEVENT
END:VCALENDAR
