BEGIN:VCALENDAR
VERSION:2.0
PRODID:icalendar-ruby
CALSCALE:GREGORIAN
BEGIN:VEVENT
DTSTAMP:20210121T015215Z
UID:5f21bd29-8e9f-4c82-b662-df762a9043db
DTSTART;VALUE=DATE:20210124
DESCRIPTION:Property ID# 499088\, Locatoin: On Site\, Time: 4:00PM
SUMMARY:Auction for 
END:VEVENT
END:VCALENDAR
