BEGIN:VCALENDAR
VERSION:2.0
PRODID:icalendar-ruby
CALSCALE:GREGORIAN
BEGIN:VEVENT
DTSTAMP:20210119T145718Z
UID:c0290d16-7a6e-4e6a-83a5-ae4ce45dd09f
DTSTART;VALUE=DATE:20210124
DESCRIPTION:Property ID# 499207\, Locatoin: One Site\, Time: 12:00PM
SUMMARY:Auction for 187 Habour Road
END:VEVENT
END:VCALENDAR
