BEGIN:VCALENDAR
VERSION:2.0
PRODID:icalendar-ruby
CALSCALE:GREGORIAN
BEGIN:VEVENT
DTSTAMP:20210119T144303Z
UID:99bd9f57-a3a4-40ab-820b-7a5fd70971c9
DTSTART;VALUE=DATE:20210213
DESCRIPTION:Property ID# 499246\, Locatoin: On Site\, Time: 11:00AM
SUMMARY:Auction for 168 Thornton Road
END:VEVENT
END:VCALENDAR
