BEGIN:VCALENDAR
VERSION:2.0
PRODID:icalendar-ruby
CALSCALE:GREGORIAN
BEGIN:VEVENT
DTSTAMP:20210119T144308Z
UID:4b901454-253b-4a45-b87e-468a51f3d804
DTSTART;VALUE=DATE:20210218
DESCRIPTION:Property ID# 499523\, Locatoin: 247 Cameron Road\, Tauranga\, T
 ime: 12:00PM
SUMMARY:Auction for 15 Penelope Place
END:VEVENT
END:VCALENDAR
