BEGIN:VCALENDAR
VERSION:2.0
PRODID:icalendar-ruby
CALSCALE:GREGORIAN
BEGIN:VEVENT
DTSTAMP:20210121T015252Z
UID:0d9cd751-a9f1-4dab-88e1-5cda04474a6b
DTSTART;VALUE=DATE:20210218
DESCRIPTION:Property ID# 499967\, Locatoin: Level 1\, 51 The Strand\, Taura
 nga (unless sold prior)\, Time: 12:00PM
SUMMARY:Auction for 1335 No. 3 Road
END:VEVENT
END:VCALENDAR
