BEGIN:VCALENDAR
VERSION:2.0
PRODID:icalendar-ruby
CALSCALE:GREGORIAN
BEGIN:VEVENT
DTSTAMP:20210121T015228Z
UID:573d2fcf-6824-413a-95a6-47f57b1aace6
DTSTART;TZID=Pacific/Auckland:20210124T130000
DTEND;TZID=Pacific/Auckland:20210124T134500
DESCRIPTION:Property ID# 498660
SUMMARY:Openhome for 2A Tuati Street
END:VEVENT
END:VCALENDAR
