BEGIN:VCALENDAR
VERSION:2.0
PRODID:icalendar-ruby
CALSCALE:GREGORIAN
BEGIN:VEVENT
DTSTAMP:20210121T015224Z
UID:2066e907-5fb4-4933-a77e-fdfd42d60610
DTSTART;TZID=Pacific/Auckland:20210124T140000
DTEND;TZID=Pacific/Auckland:20210124T144500
DESCRIPTION:Property ID# 499208
SUMMARY:Openhome for  53 Waterways Drive
END:VEVENT
END:VCALENDAR
