BEGIN:VCALENDAR
VERSION:2.0
PRODID:icalendar-ruby
CALSCALE:GREGORIAN
BEGIN:VEVENT
DTSTAMP:20210121T015213Z
UID:10c458d2-5dd9-4eac-9798-dddc4c0fcf2e
DTSTART;TZID=Pacific/Auckland:20210124T153000
DTEND;TZID=Pacific/Auckland:20210124T160000
DESCRIPTION:Property ID# 499088
SUMMARY:Openhome for 
END:VEVENT
END:VCALENDAR
