BEGIN:VCALENDAR
VERSION:2.0
PRODID:icalendar-ruby
CALSCALE:GREGORIAN
BEGIN:VEVENT
DTSTAMP:20210121T015209Z
UID:ffb155bd-6d98-4289-9dbe-888413e20229
DTSTART;TZID=Pacific/Auckland:20210124T133000
DTEND;TZID=Pacific/Auckland:20210124T140000
DESCRIPTION:Property ID# 497155
SUMMARY:Openhome for 377 River Road
END:VEVENT
END:VCALENDAR
