BEGIN:VCALENDAR
VERSION:2.0
PRODID:icalendar-ruby
CALSCALE:GREGORIAN
BEGIN:VEVENT
DTSTAMP:20210119T145642Z
UID:5ab3948d-6f66-49dd-81c9-8938b899d123
DTSTART;TZID=Pacific/Auckland:20210124T103000
DTEND;TZID=Pacific/Auckland:20210124T110000
DESCRIPTION:Property ID# 495056
SUMMARY:Openhome for 10 Carnoustie Place
END:VEVENT
END:VCALENDAR
