BEGIN:VCALENDAR
VERSION:2.0
PRODID:icalendar-ruby
CALSCALE:GREGORIAN
BEGIN:VEVENT
DTSTAMP:20210119T144251Z
UID:aa2423f0-cc52-4c26-8084-42b3659e5cb8
DTSTART;TZID=Pacific/Auckland:20210124T130000
DTEND;TZID=Pacific/Auckland:20210124T134500
DESCRIPTION:Property ID# 499760
SUMMARY:Openhome for 36 Kawerau Road
END:VEVENT
END:VCALENDAR
