BEGIN:VCALENDAR
VERSION:2.0
PRODID:icalendar-ruby
CALSCALE:GREGORIAN
BEGIN:VEVENT
DTSTAMP:20210121T015251Z
UID:9861a535-78df-4d79-a202-3c3f55e5ebad
DTSTART;TZID=Pacific/Auckland:20210124T110000
DTEND;TZID=Pacific/Auckland:20210124T113000
DESCRIPTION:Property ID# 499845
SUMMARY:Openhome for 17 Wai Huri Place
END:VEVENT
END:VCALENDAR
