BEGIN:VCALENDAR
VERSION:2.0
PRODID:icalendar-ruby
CALSCALE:GREGORIAN
BEGIN:VEVENT
DTSTAMP:20210121T015158Z
UID:a5b96b26-f3b1-4a61-8666-ad7f393e0075
DTSTART;TZID=Pacific/Auckland:20210124T140000
DTEND;TZID=Pacific/Auckland:20210124T144500
DESCRIPTION:Property ID# 498637
SUMMARY:Openhome for 138 Ocean Road
END:VEVENT
END:VCALENDAR
