BEGIN:VCALENDAR
VERSION:2.0
PRODID:icalendar-ruby
CALSCALE:GREGORIAN
BEGIN:VEVENT
DTSTAMP:20260423T091705Z
UID:40c33ab7-4c1e-42b3-9352-bc138c2af498
DTSTART;VALUE=DATE:20200913
DESCRIPTION:Property ID# 488152\, Time: 1:00PM
SUMMARY:Auction for 
END:VEVENT
END:VCALENDAR
