BEGIN:VCALENDAR
VERSION:2.0
PRODID:icalendar-ruby
CALSCALE:GREGORIAN
BEGIN:VEVENT
DTSTAMP:20260422T193255Z
UID:ca39966e-39ab-47c2-9d6d-e0d5d0fab6ad
DTSTART;VALUE=DATE:20210506
DESCRIPTION:Property ID# 506825\, Locatoin: Auction Rooms\, 247 Cameron Roa
 d\, Tauranga\, Time: 1:00PM
SUMMARY:Auction for 
END:VEVENT
END:VCALENDAR
