BEGIN:VCALENDAR
VERSION:2.0
PRODID:icalendar-ruby
CALSCALE:GREGORIAN
BEGIN:VEVENT
DTSTAMP:20260420T130827Z
UID:53ad9cb7-11d5-4128-be8d-e2edffce2134
DTSTART;VALUE=DATE:20210820
DESCRIPTION:Property ID# 514918\, Locatoin: Harcourts Auction Rooms Welling
 ton\, Time: 12:00PM
SUMMARY:Auction for 
END:VEVENT
END:VCALENDAR
