BEGIN:VCALENDAR
VERSION:2.0
PRODID:icalendar-ruby
CALSCALE:GREGORIAN
BEGIN:VEVENT
DTSTAMP:20260421T100811Z
UID:d491dd8a-c960-4b1f-968d-f6a5da4f2b1e
DTSTART;VALUE=DATE:20211103
DESCRIPTION:Property ID# 520023\, Locatoin: ay White Auction Rooms\, 1/9 Do
 main Road\, Papamoa\, Time: 1:00PM
SUMMARY:Auction for 
END:VEVENT
END:VCALENDAR
