BEGIN:VCALENDAR
VERSION:2.0
PRODID:icalendar-ruby
CALSCALE:GREGORIAN
BEGIN:VEVENT
DTSTAMP:20260419T140232Z
UID:57eb63da-b9dd-4620-8fae-cc3ce20d1dd8
DTSTART;VALUE=DATE:20240606
DESCRIPTION:Property ID# 575929\, Locatoin: 8 Kent Terrace\, Wellington\, T
 ime: 1:00AM
SUMMARY:Auction for 
END:VEVENT
END:VCALENDAR
