BEGIN:VCALENDAR
VERSION:2.0
PRODID:icalendar-ruby
CALSCALE:GREGORIAN
BEGIN:VEVENT
DTSTAMP:20260419T140707Z
UID:211f1880-5e8d-48cf-97bf-53b72611d5ca
DTSTART;VALUE=DATE:20240604
DESCRIPTION:Property ID# 576610\, Locatoin: 8 Kent Terrace\, Wellington\, T
 ime: 12:00PM
SUMMARY:Auction for 
END:VEVENT
END:VCALENDAR
