BEGIN:VCALENDAR
VERSION:2.0
PRODID:icalendar-ruby
CALSCALE:GREGORIAN
BEGIN:VEVENT
DTSTAMP:20260419T140624Z
UID:cb9ddab4-6d72-435d-84c0-4d54461ec0f0
DTSTART;VALUE=DATE:20240919
DESCRIPTION:Property ID# 579457\, Locatoin: 8 Kent Terrace\, Wellington\, T
 ime: 1:00PM
SUMMARY:Auction for 
END:VEVENT
END:VCALENDAR
