BEGIN:VCALENDAR
VERSION:2.0
PRODID:icalendar-ruby
CALSCALE:GREGORIAN
BEGIN:VEVENT
DTSTAMP:20260423T161411Z
UID:8ad9ef60-a45c-4b1e-9d7b-40bb9e4673b1
DTSTART;VALUE=DATE:20241107
DESCRIPTION:Property ID# 582632\, Locatoin: 2/153 Karori Road\, Wellington\
 , Time: 12:00PM
SUMMARY:Auction for 
END:VEVENT
END:VCALENDAR
