BEGIN:VCALENDAR
VERSION:2.0
PRODID:icalendar-ruby
CALSCALE:GREGORIAN
BEGIN:VEVENT
DTSTAMP:20260423T161907Z
UID:59b283e3-5ad4-4c0c-9d27-3149c6159779
DTSTART;VALUE=DATE:20241205
DESCRIPTION:Property ID# 584397\, Locatoin: 2/153 Karori Road\, Wellington\
 , Time: 12:00PM
SUMMARY:Auction for 
END:VEVENT
END:VCALENDAR
