BEGIN:VCALENDAR
VERSION:2.0
PRODID:icalendar-ruby
CALSCALE:GREGORIAN
BEGIN:VEVENT
DTSTAMP:20260419T140810Z
UID:a97e6b9d-4236-457b-93e8-1d447bc9adde
DTSTART;VALUE=DATE:20250220
DESCRIPTION:Property ID# 586985\, Locatoin: 8 Kent Terrace Wellington \, Ti
 me: 1:00PM
SUMMARY:Auction for 83 Tannadyce Street
END:VEVENT
END:VCALENDAR
