BEGIN:VCALENDAR
VERSION:2.0
PRODID:icalendar-ruby
CALSCALE:GREGORIAN
BEGIN:VEVENT
DTSTAMP:20260423T160736Z
UID:3a7ef3c9-3bdc-494b-83a6-b14a003e8926
DTSTART;VALUE=DATE:20250306
DESCRIPTION:Property ID# 588199\, Locatoin: 2/153 Karori Road\, Wellington\
 , Time: 12:00PM
SUMMARY:Auction for 
END:VEVENT
END:VCALENDAR
