BEGIN:VCALENDAR
VERSION:2.0
PRODID:icalendar-ruby
CALSCALE:GREGORIAN
BEGIN:VEVENT
DTSTAMP:20260423T231030Z
UID:d61ad5fa-11ac-453a-9add-2cd189e01028
DTSTART;VALUE=DATE:20250417
DESCRIPTION:Property ID# 590577\, Locatoin: 8 Kent Terrace\, Wellington (wi
 ll  not be sold prior)\, Time: 12:00PM
SUMMARY:Auction for 
END:VEVENT
END:VCALENDAR
