BEGIN:VCALENDAR
VERSION:2.0
PRODID:icalendar-ruby
CALSCALE:GREGORIAN
BEGIN:VEVENT
DTSTAMP:20260419T140135Z
UID:c4bd85e8-5b31-47ce-9ffb-f7cf9574b8eb
DTSTART;VALUE=DATE:20250514
DESCRIPTION:Property ID# 591385\, Locatoin: 8 Kent Terrace\, Wellington\, T
 ime: 1:00PM
SUMMARY:Auction for 
END:VEVENT
END:VCALENDAR
