BEGIN:VCALENDAR
VERSION:2.0
PRODID:icalendar-ruby
CALSCALE:GREGORIAN
BEGIN:VEVENT
DTSTAMP:20260419T140002Z
UID:86c5f218-7e3b-46d8-8a00-e8335a02129a
DTSTART;VALUE=DATE:20250703
DESCRIPTION:Property ID# 593889\, Locatoin: 8 Kent Terrace\, Wellington (wi
 ll not be sold prior)\, Time: 1:00PM
SUMMARY:Auction for 
END:VEVENT
END:VCALENDAR
