BEGIN:VCALENDAR
VERSION:2.0
PRODID:icalendar-ruby
CALSCALE:GREGORIAN
BEGIN:VEVENT
DTSTAMP:20260423T194428Z
UID:1a1d794b-2289-42cf-90f2-7db4722f27c2
DTSTART;VALUE=DATE:20250731
DESCRIPTION:Property ID# 594815\, Locatoin: 8 Kent Terrace\, Wellington (wi
 ll  not be sold prior)\, Time: 12:00PM
SUMMARY:Auction for 
END:VEVENT
END:VCALENDAR
