BEGIN:VCALENDAR
VERSION:2.0
PRODID:icalendar-ruby
CALSCALE:GREGORIAN
BEGIN:VEVENT
DTSTAMP:20260423T193837Z
UID:e2c05c11-3937-4df9-9bb6-aa0c301bdcb1
DTSTART;VALUE=DATE:20250821
DESCRIPTION:Property ID# 595264\, Locatoin: 8 Kent Terrace\, Wellington (wi
 ll  not be sold prior)\, Time: 1:00PM
SUMMARY:Auction for 
END:VEVENT
END:VCALENDAR
