BEGIN:VCALENDAR
VERSION:2.0
PRODID:icalendar-ruby
CALSCALE:GREGORIAN
BEGIN:VEVENT
DTSTAMP:20260423T161010Z
UID:ccda713c-3beb-407d-8889-53eb4d124dfb
DTSTART;VALUE=DATE:20250925
DESCRIPTION:Property ID# 596938\, Locatoin: 2/153 Karori Road\, Wellington\
 , Time: 12:00PM
SUMMARY:Auction for 
END:VEVENT
END:VCALENDAR
